BEGIN:VCALENDAR
VERSION:2.0
PRODID:-//Kirtland Credit Union - ECPv6.15.20//NONSGML v1.0//EN
CALSCALE:GREGORIAN
METHOD:PUBLISH
X-ORIGINAL-URL:https://kirtlandcu.org
X-WR-CALDESC:Events for Kirtland Credit Union
REFRESH-INTERVAL;VALUE=DURATION:PT1H
X-Robots-Tag:noindex
X-PUBLISHED-TTL:PT1H
BEGIN:VTIMEZONE
TZID:America/Denver
BEGIN:DAYLIGHT
TZOFFSETFROM:-0700
TZOFFSETTO:-0600
TZNAME:MDT
DTSTART:20220313T090000
END:DAYLIGHT
BEGIN:STANDARD
TZOFFSETFROM:-0600
TZOFFSETTO:-0700
TZNAME:MST
DTSTART:20221106T080000
END:STANDARD
BEGIN:DAYLIGHT
TZOFFSETFROM:-0700
TZOFFSETTO:-0600
TZNAME:MDT
DTSTART:20230312T090000
END:DAYLIGHT
BEGIN:STANDARD
TZOFFSETFROM:-0600
TZOFFSETTO:-0700
TZNAME:MST
DTSTART:20231105T080000
END:STANDARD
BEGIN:DAYLIGHT
TZOFFSETFROM:-0700
TZOFFSETTO:-0600
TZNAME:MDT
DTSTART:20240310T090000
END:DAYLIGHT
BEGIN:STANDARD
TZOFFSETFROM:-0600
TZOFFSETTO:-0700
TZNAME:MST
DTSTART:20241103T080000
END:STANDARD
END:VTIMEZONE
BEGIN:VEVENT
DTSTART;TZID=America/Denver:20230613T113000
DTEND;TZID=America/Denver:20230613T123000
DTSTAMP:20260420T111124
CREATED:20230519T214911Z
LAST-MODIFIED:20230519T214911Z
UID:12711-1686655800-1686659400@kirtlandcu.org
SUMMARY:Becoming a Homeowner
DESCRIPTION:Homeownership starts well before the contracts are signed—preparation is one of the keys to a smooth home buying process. This session covers all major pre-purchase topics such as budgeting\, the down payment\, credit reports\, debt-to-income ratios\, and the mortgage lending process.
URL:https://kirtlandcu.org/event/becoming-a-homeowner/2023-06-13/
CATEGORIES:Balance Webinars
END:VEVENT
END:VCALENDAR